BEGIN:VCALENDAR
VERSION:2.0
PRODID:-//wp-events-plugin.com//7.2.3.1//EN
TZID:Europe/Oslo
X-WR-TIMEZONE:Europe/Oslo
BEGIN:VEVENT
UID:193@kreftomsorg.no
DTSTART;TZID=Europe/Oslo:20250917T180000
DTEND;TZID=Europe/Oslo:20250917T200000
DTSTAMP:20250904T073647Z
URL:https://www.kreftomsorg.no/kalender/musikkreisen-nar-toner-apner-doren
 -til-folelsene-i-regi-av-nok-sor-vest/
SUMMARY:"Musikkreisen" – når toner åpner døren til følelsene (I regi 
 av NOK Sør-Vest)
DESCRIPTION:Hei og velkommen til høstens første temakveld\n\n\n\nOnsdag17
 .9\, kl. 18 – 20\, er vi så heldige å få besøk av Stig Erlend Mid
 tgard fra Mestringsenheten i Sandnes.\n\nHan er en av dem som leder tilbud
 et «Musikkreisen»\, som er et etablert musikkterapeutisk tilbud på Mest
 ringsenheten.\n\nDere vil få innblikk i metoden og de erfaringene som er 
 gjort\, i møte med mennesker som bærer på smertefulle opplevelser.\n\nT
 emakveldene våre er\, som alltid\, en god mulighet for nyttig og gratis
  påfyll av kunnskap.\n\nDel veldig gjerne invitasjonen til dem som måt
 te finne tematikken nyttig.\n\nFørste person til mølla.\n\n \n\nBenytt 
 deg av påmeldingslinken og QR kode er i vedlegget.\n\n \n\nVarmt velkomm
 en!\n\n&nbsp\;
ATTACH;FMTTYPE=image/jpeg:https://www.kreftomsorg.no/wp-content/uploads/20
 25/09/Skjermbilde-2025-09-04-kl.-09.35.44.png
CATEGORIES:Eksterne arrangement
END:VEVENT
BEGIN:VTIMEZONE
TZID:Europe/Oslo
X-LIC-LOCATION:Europe/Oslo
BEGIN:DAYLIGHT
DTSTART:20250330T030000
TZOFFSETFROM:+0100
TZOFFSETTO:+0200
TZNAME:CEST
END:DAYLIGHT
END:VTIMEZONE
END:VCALENDAR