BEGIN:VCALENDAR
VERSION:2.0
PRODID:-//wp-events-plugin.com//7.2.3.1//EN
TZID:Europe/Oslo
X-WR-TIMEZONE:Europe/Oslo
BEGIN:VEVENT
UID:144@kreftomsorg.no
DTSTART;TZID=Europe/Oslo;VALUE=DATE:20250328
DTEND;TZID=Europe/Oslo;VALUE=DATE:20250329
DTSTAMP:20250321T121152Z
URL:https://www.kreftomsorg.no/kalender/trening-og-fysiskaktivitet-vardese
 nteret-2/
SUMMARY:Trening og fysiskaktivitet - Vardesenteret
DESCRIPTION:Fredager \n\nKondisjon og styrke (kl: 0930-1030) Gymsal\n\nBal
 lgruppe (kl: 1100-1200) Pusterommet
CATEGORIES:Eksterne arrangement
END:VEVENT
BEGIN:VTIMEZONE
TZID:Europe/Oslo
X-LIC-LOCATION:Europe/Oslo
BEGIN:STANDARD
DTSTART:20241027T020000
TZOFFSETFROM:+0200
TZOFFSETTO:+0100
TZNAME:CET
END:STANDARD
END:VTIMEZONE
END:VCALENDAR