BEGIN:VCALENDAR
VERSION:2.0
PRODID:-//wp-events-plugin.com//7.2.3.1//EN
TZID:Europe/Oslo
X-WR-TIMEZONE:Europe/Oslo
BEGIN:VEVENT
UID:209@kreftomsorg.no
DTSTART;TZID=Europe/Oslo:20260112T120000
DTEND;TZID=Europe/Oslo:20260112T130000
DTSTAMP:20260105T142234Z
URL:https://www.kreftomsorg.no/kalender/yoga-i-sandnes/
SUMMARY:Yoga i Sandnes
DESCRIPTION:Mandager klokken 12:00 - 13:00.\n\nSats Sandnes.\n\nInstruktør
 : Julie Victoria Tengesdal.\n\nDeltakelse fordrer familiemedlemskap i Kref
 tomsorg Rogaland. For mer informasjon og påmelding\, ta kontakt på epost
  post@kreftomsorg.no eller telefon 51 56 79 90.
CATEGORIES:Møteplass
END:VEVENT
BEGIN:VTIMEZONE
TZID:Europe/Oslo
X-LIC-LOCATION:Europe/Oslo
BEGIN:STANDARD
DTSTART:20251026T020000
TZOFFSETFROM:+0200
TZOFFSETTO:+0100
TZNAME:CET
END:STANDARD
END:VTIMEZONE
END:VCALENDAR