BEGIN:VCALENDAR
VERSION:2.0
PRODID:-//wp-events-plugin.com//7.2.3.1//EN
TZID:Europe/Oslo
X-WR-TIMEZONE:Europe/Oslo
BEGIN:VEVENT
UID:169@kreftomsorg.no
DTSTART;TZID=Europe/Oslo:20250424T104500
DTEND;TZID=Europe/Oslo:20250424T114500
DTSTAMP:20250424T075055Z
URL:https://www.kreftomsorg.no/kalender/yoga-med-jivamukti-yoga-stavanger-
 2-2025-04-24/
SUMMARY:Yoga med Jivamukti Yoga\, Stavanger
DESCRIPTION:Stavanger\nTreningen er i samarbeid med Jivamukti Yoga\, og f
 oregår på deres senter i Stavanger\, Avaldsnesgata 95. I Stavanger er de
 t blitt tradisjon for mange å spise lunsj sammen etter timen på torsdage
 r. Du må ha med egen matte.\n\nOppstart 9.januar\n\n\n\n\nDag\nKlokkeslet
 t\n\n\n\n\nTirsdag\n18:30 – 19:30 m/ Annamaria Gutierrez\n\n\nTorsdag\n
 10:45 – 11:45 m/Tone Haugland\n\n\n\n
END:VEVENT
BEGIN:VTIMEZONE
TZID:Europe/Oslo
X-LIC-LOCATION:Europe/Oslo
BEGIN:DAYLIGHT
DTSTART:20250330T030000
TZOFFSETFROM:+0100
TZOFFSETTO:+0200
TZNAME:CEST
END:DAYLIGHT
END:VTIMEZONE
END:VCALENDAR